BEGIN:VCALENDAR
VERSION:2.0
PRODID:-//ChamberMaster//Event Calendar 2.0//EN
METHOD:PUBLISH
X-PUBLISHED-TTL:P3D
REFRESH-INTERVAL:P3D
CALSCALE:GREGORIAN
BEGIN:VEVENT
DTSTART:20241120T213000Z
DTEND:20241120T220000Z
X-MICROSOFT-CDO-ALLDAYEVENT:FALSE
SUMMARY:60th Anniversary Celebration with Columbus Optical
DESCRIPTION:Join us to celebrate the 60th Anniversary of Columbus Optical with a ribbon cutting.  \n\n\n\nFounded by Charles Oliver\, Columbus Optical has been a family owned and operated full service eyecare business since 1964. We manufacture all of our lenses in house with state-of-the art processes by Board Certified Opticians. You will enjoy roaming through our extensive collection of eyewear from all over the world\, even the USA! From infants to elderly\, we have the right frame for all members of your family. Sports and hobby enthusiast can have custom eyewear engineered to meet your specific needs. Board Certified Opticians\, Independent Optometrists and best manufacturing of your lenses\, your family will enjoy the best in eyecare in Southern Indiana.
X-ALT-DESC;FMTTYPE=text/html:Join us to celebrate the 60th Anniversary of Columbus Optical with a ribbon cutting.&nbsp\;&nbsp\;<br />\n<br />\n<em>Founded by Charles Oliver\, Columbus Optical has been a family owned and operated full service eyecare business since 1964. We manufacture all of our lenses in house with state-of-the art processes by Board Certified Opticians. You will enjoy roaming through our extensive collection of eyewear from all over the world\, even the USA! From infants to elderly\, we have the right frame for all members of your family. Sports and hobby enthusiast can have custom eyewear engineered to meet your specific needs. Board Certified Opticians\, Independent Optometrists and best manufacturing of your lenses\, your family will enjoy the best in eyecare in Southern Indiana.</em><br />\n&nbsp\;
LOCATION:2475 Cottage Ave Columbus\, In
UID:e.1795.5611
SEQUENCE:3
DTSTAMP:20260424T225402Z
URL:https://business.columbusareachamber.com/events/details/60th-anniversary-celebration-with-columbus-optical-5611
END:VEVENT

END:VCALENDAR
