BEGIN:VCALENDAR
VERSION:2.0
PRODID:-//ChamberMaster//Event Calendar 2.0//EN
METHOD:PUBLISH
X-PUBLISHED-TTL:P3D
REFRESH-INTERVAL:P3D
CALSCALE:GREGORIAN
BEGIN:VEVENT
DTSTART:20251211T220000Z
DTEND:20251212T000000Z
X-MICROSOFT-CDO-ALLDAYEVENT:FALSE
SUMMARY:Chamber Holiday Party: 2025
DESCRIPTION:Chamber Holiday Party: A Whoville Celebration!\n\nStep into Whoville and celebrate the season Chamber style! Join us on Thursday\, December 11 at 5 PM at Whoville (400 Brown Street) for an evening of feasting\, laughter\, and a little Grinchy fun!\n\nThis year's theme   "How the Chamber Stole Christmas!"   promises a night right out of Dr. Seuss's storybook. Expect twinkling lights\, merry bites\, and maybe even a few mischievous appearances from the Grinch himself. But don't worry our very own Cindy-Lou Whos (Dora Hotel and the Chamber) are leading the way to make sure hearts grow three sizes before the night is through!\n\nEnjoy delicious food and drink\, playful activities\, and plenty of networking with fellow Whos from near and far. Whether you're a Max at heart\, a Cindy-Lou full of cheer\, or a Grinch in need of some holiday spirit\, there's a place for you in Whoville.\n\nSo don your festive best\, bring your holiday who-tastic energy\, and join us as we celebrate community\, connection\, and the joy that makes the Chamber's heart grow bigger every year!
X-ALT-DESC;FMTTYPE=text/html:<h3 data-end="297" data-start="238"><strong data-end="295" data-start="245">Chamber Holiday Party: A Whoville Celebration!</strong></h3>\n\n<p data-end="509" data-start="299">Step into Whoville and celebrate the season <em data-end="359" data-start="343">Chamber style!</em> Join us on <strong data-end="404" data-start="371">Thursday\, December 11 at 5 PM</strong> at <strong data-end="443" data-start="408">Whoville (400 Brown Street)</strong> for an evening of feasting\, laughter\, and a little Grinchy fun!</p>\n\n<p data-end="892" data-start="511">This year&rsquo\;s theme &mdash\; <span style="color:#FF0000\;"><strong><em data-end="567" data-start="531">&ldquo\;How the Chamber Stole Christmas!&rdquo\;</em></strong></span> &mdash\; promises a night right out of Dr. Seuss&rsquo\;s storybook. Expect twinkling lights\, merry bites\, and maybe even a few mischievous appearances from the Grinch himself. But don&rsquo\;t worry&mdash\;our very own Cindy-Lou Whos (Dora Hotel and the Chamber) are leading the way to make sure hearts grow <span style="color:#008000\;"><strong><em data-end="861" data-start="848">three sizes</em></strong></span> before the night is through!</p>\n\n<p data-end="1147" data-start="894">Enjoy delicious food and drink\, playful activities\, and plenty of networking with fellow Whos from near and far. Whether you&rsquo\;re a Max at heart\, a Cindy-Lou full of cheer\, or a Grinch in need of some holiday spirit\, there&rsquo\;s a place for you in Whoville.</p>\n\n<p data-end="1332" data-start="1149">So don your festive best\, bring your holiday who-tastic energy\, and join us as we celebrate community\, connection\, and the joy that makes the Chamber&rsquo\;s heart grow bigger every year!</p>\n
LOCATION:Whoville 400 Brown Street Columbus\, In 47201
UID:e.1795.5699
SEQUENCE:3
DTSTAMP:20260420T083710Z
URL:https://business.columbusareachamber.com/events/details/chamber-holiday-party-2025-5699
END:VEVENT

END:VCALENDAR
