BEGIN:VCALENDAR
VERSION:2.0
PRODID:-//ChamberMaster//Event Calendar 2.0//EN
METHOD:PUBLISH
X-PUBLISHED-TTL:P3D
REFRESH-INTERVAL:P3D
CALSCALE:GREGORIAN
BEGIN:VEVENT
DTSTART:20260123T180000Z
DTEND:20260123T190000Z
X-MICROSOFT-CDO-ALLDAYEVENT:FALSE
SUMMARY:M2M Workshop: Demystify AI Session 2
DESCRIPTION:AI for the Busy Business Owner:\n\nAutomate Operations\, Save Time\, Stay Competitive\, Grow Smarter\n\nA clear\, jargon-free introduction to AI for local owners. Leave with a practical understanding and time-saving workflows. \n\n\n\nAI is everywhere in the headlines but what does it actually mean for your local business? Is it a passing fad or a tool you can't afford to ignore?\n\n\n\nForget the hype. This 3-part series is designed for one purpose: to demystify AI and show you exactly where it fits into your workday.\n\n\n\nIf you're a business owner who's curious but cautious\, short on time\, and tired of tech jargon\, this is your starting line. We'll translate AI from a "buzzword" into a practical "business tool" you can control.\n\n\n\nIn this series\, you will:\n\n	Understand what AI is (and isn't) and why it matters for small businesses right now.\n	See real examples of AI saving time for businesses like yours.\n	Try it yourself Time-saving automations you can implement the very next day Leave with A clear\, customized AI action plan tailored to your business type.\n\nNo technical skills needed. Just honest\, local\, practical insights. \n\n\n\nSESSION 2: Marketing & Visibility\n\n"Never Stare at a Blank Screen Again: AI for Marketing Your Local Business"\n\nUnlock consistent marketing without the burnout.\n\n\n\nTheory: How AI writes\, brainstorms\, and personalizes. Ethical use & preserving your authentic voice.\n\n\n\nPractical Takeaway: Each attendee will craft a ready-to-use email campaign or set of social media posts for an upcoming promotion or event.\n\n\n\nWhat You'll Learn: Learn the secrets to writing better AI prompts that generate high-quality content fast. You'll leave with a social post\, blog draft\, or email sequence done and ready to go.
X-ALT-DESC;FMTTYPE=text/html:<strong>AI for the Busy Business Owner:<br />\nAutomate Operations\, Save Time\, Stay Competitive\, Grow Smarter</strong><br />\nA clear\, jargon-free introduction to AI for local owners. Leave with a practical understanding and time-saving workflows.&nbsp\;<br />\n<br />\nAI is everywhere in the headlines&mdash\;but what does it actually mean for your local business? Is it a passing fad or a tool you can&#39\;t afford to ignore?<br />\n<br />\nForget the hype. This 3-part series is designed for one purpose: to demystify AI and show you exactly where it fits into your workday.<br />\n<br />\nIf you&#39\;re a business owner who&#39\;s curious but cautious\, short on time\, and tired of tech jargon\, this is your starting line. We&#39\;ll translate AI from a &quot\;buzzword&quot\; into a practical &quot\;business tool&quot\; you can control.<br />\n<br />\nIn this series\, you will:\n<ul>\n	<li>Understand what AI is (and isn&#39\;t) and why it matters for small businesses right now.</li>\n	<li>See real examples of AI saving time for businesses like yours.</li>\n	<li>Try it yourself Time-saving automations you can implement the very next day Leave with A clear\, customized AI action plan tailored to your business type.</li>\n</ul>\nNo technical skills needed. Just honest\, local\, practical insights.&nbsp\;<br />\n<br />\n<strong>SESSION 2: Marketing &amp\; Visibility<br />\n&quot\;Never Stare at a Blank Screen Again: AI for Marketing Your Local Business&quot\;</strong><br />\nUnlock consistent marketing without the burnout.<br />\n<br />\nTheory: How AI writes\, brainstorms\, and personalizes. Ethical use &amp\; preserving your authentic voice.<br />\n<br />\nPractical Takeaway: Each attendee will craft a ready-to-use email campaign or set of social media posts for an upcoming promotion or event.<br />\n<br />\nWhat You&rsquo\;ll Learn: Learn the secrets to writing better AI prompts that generate high-quality content fast. You&rsquo\;ll leave with a social post\, blog draft\, or email sequence&mdash\;done and ready to go.&nbsp\;
LOCATION:Columbus Area Chamber of Commerce 250 Franklin Street Columbus\, IN 47201 VIRTUAL OPTION AVAILABLE
UID:e.1795.6021
SEQUENCE:3
DTSTAMP:20260424T201802Z
URL:https://business.columbusareachamber.com/events/details/m2m-workshop-demystify-ai-session-2-6021
END:VEVENT

END:VCALENDAR
