BEGIN:VCALENDAR
VERSION:2.0
PRODID:-//ChamberMaster//Event Calendar 2.0//EN
METHOD:PUBLISH
X-PUBLISHED-TTL:P3D
REFRESH-INTERVAL:P3D
CALSCALE:GREGORIAN
BEGIN:VEVENT
DTSTART:20260205T180000Z
DTEND:20260205T190000Z
X-MICROSOFT-CDO-ALLDAYEVENT:FALSE
SUMMARY:M2M Workshop: Demystify AI Session 3
DESCRIPTION:AI for the Busy Business Owner:\n\nAutomate Operations\, Save Time\, Stay Competitive\, Grow Smarter\n\nA clear\, jargon-free introduction to AI for local owners. Leave with a practical understanding and time-saving workflows. \n\n\n\nAI is everywhere in the headlines but what does it actually mean for your local business? Is it a passing fad or a tool you can't afford to ignore?\n\n\n\nForget the hype. This 3-part series is designed for one purpose: to demystify AI and show you exactly where it fits into your workday.\n\n\n\nIf you're a business owner who's curious but cautious\, short on time\, and tired of tech jargon\, this is your starting line. We'll translate AI from a "buzzword" into a practical "business tool" you can control.\n\n\n\nIn this series\, you will:\n\n	Understand what AI is (and isn't) and why it matters for small businesses right now.\n	See real examples of AI saving time for businesses like yours.\n	Try it yourself Time-saving automations you can implement the very next day Leave with A clear\, customized AI action plan tailored to your business type.\n\nNo technical skills needed. Just honest\, local\, practical insights. \n\n\n\nSESSION 3: Operations & Your First Step\n\n"Your First AI Workflow: Save 3 5 Hours a Week Without Changing Your Whole Business" \n\n\n\nTheory: Turn AI into an Extra Team Member: Automating Everyday Tasks Without Hiring\n\n\n\nYour First AI Workflow: Save 3 5 Hours a Week Without Changing Your Whole Business \n\n\n\nPractical Takeaway: We'll build one simple\, customizable automation workflow together (e.g.\, for customer follow-ups or meeting summaries). Attendees leave with their own step by-step plan.
X-ALT-DESC;FMTTYPE=text/html:<strong>AI for the Busy Business Owner:<br />\nAutomate Operations\, Save Time\, Stay Competitive\, Grow Smarter</strong><br />\nA clear\, jargon-free introduction to AI for local owners. Leave with a practical understanding and time-saving workflows.&nbsp\;<br />\n<br />\nAI is everywhere in the headlines&mdash\;but what does it actually mean for your local business? Is it a passing fad or a tool you can&#39\;t afford to ignore?<br />\n<br />\nForget the hype. This 3-part series is designed for one purpose: to demystify AI and show you exactly where it fits into your workday.<br />\n<br />\nIf you&#39\;re a business owner who&#39\;s curious but cautious\, short on time\, and tired of tech jargon\, this is your starting line. We&#39\;ll translate AI from a &quot\;buzzword&quot\; into a practical &quot\;business tool&quot\; you can control.<br />\n<br />\nIn this series\, you will:\n<ul>\n	<li>Understand what AI is (and isn&#39\;t) and why it matters for small businesses right now.</li>\n	<li>See real examples of AI saving time for businesses like yours.</li>\n	<li>Try it yourself Time-saving automations you can implement the very next day Leave with A clear\, customized AI action plan tailored to your business type.</li>\n</ul>\nNo technical skills needed. Just honest\, local\, practical insights.&nbsp\;<br />\n<br />\n<strong>SESSION 3: Operations &amp\; Your First Step<br />\n&quot\;Your First AI Workflow: Save 3&ndash\;5 Hours a Week Without Changing Your Whole Business&quot\;&nbsp\;</strong><br />\n<br />\nTheory: Turn AI into an Extra Team Member: Automating Everyday Tasks Without Hiring<br />\n<br />\nYour First AI Workflow: Save 3&ndash\;5 Hours a Week Without Changing Your Whole Business&nbsp\;<br />\n<br />\nPractical Takeaway: We&#39\;ll build one simple\, customizable automation workflow together (e.g.\, for customer follow-ups or meeting summaries). Attendees leave with their own step by-step plan.&nbsp\;
LOCATION:Columbus Area Chamber of Commerce 250 Franklin Street Columbus\, IN 47201 VIRTUAL OPTION AVAILABLE
UID:e.1795.6022
SEQUENCE:3
DTSTAMP:20260424T201728Z
URL:https://business.columbusareachamber.com/events/details/m2m-workshop-demystify-ai-session-3-6022
END:VEVENT

END:VCALENDAR
