BEGIN:VCALENDAR
VERSION:2.0
PRODID:-//ChamberMaster//Event Calendar 2.0//EN
METHOD:PUBLISH
X-PUBLISHED-TTL:P3D
REFRESH-INTERVAL:P3D
CALSCALE:GREGORIAN
BEGIN:VEVENT
DTSTART:20251106T213000Z
DTEND:20251106T220000Z
X-MICROSOFT-CDO-ALLDAYEVENT:FALSE
SUMMARY:Ribbon Cutting at Dorothy's Playhouse
DESCRIPTION:Join us for a ribbon cutting to celebrate\, one of Columbus' most anticipated openings\, Dorothy's Playhouse.   Stay after the ceremony to take a tour and sample their signature drinks. \n\n\n\nDorothy's Playhouse is a locally owned indoor play caf  designed for families to connect\, play\, and relax together. We're celebrating our official grand opening and partnership with the Chamber of Commerce as we welcome the community to experience our creative play spaces\, kid-approved drinks\, and family-friendly atmosphere.
X-ALT-DESC;FMTTYPE=text/html:Join us for a ribbon cutting to celebrate\, one of Columbus&#39\; most anticipated openings\, Dorothy&#39\;s Playhouse.&nbsp\; &nbsp\;Stay after the ceremony to take a tour and sample their signature drinks.&nbsp\;<br />\n<br />\n<em><span style="font-family:times new roman\;"><b style="color: rgb(36\, 36\, 36)\; font-family: &quot\;Calibri Light&quot\;\, sans-serif\; font-size: 14.6667px\;">Dorothy&rsquo\;s Playhouse is a locally owned indoor play caf&eacute\; designed for families to connect\, play\, and relax together. We&rsquo\;re celebrating our official grand opening and partnership with the Chamber of Commerce as we welcome the community to experience our creative play spaces\, kid-approved drinks\, and family-friendly atmosphere.</b></span></em>
LOCATION:3136 N National Road Columbus\, In
UID:e.1795.6005
SEQUENCE:3
DTSTAMP:20260425T021328Z
URL:https://business.columbusareachamber.com/events/details/ribbon-cutting-at-dorothy-s-playhouse-6005
END:VEVENT

END:VCALENDAR
