BEGIN:VCALENDAR
VERSION:2.0
PRODID:-//ChamberMaster//Event Calendar 2.0//EN
METHOD:PUBLISH
X-PUBLISHED-TTL:P3D
REFRESH-INTERVAL:P3D
CALSCALE:GREGORIAN
BEGIN:VEVENT
DTSTART:20251113T213000Z
DTEND:20251113T220000Z
X-MICROSOFT-CDO-ALLDAYEVENT:FALSE
SUMMARY:Ribbon Cutting at Stunna's
DESCRIPTION:Join us to celebrate the grand opening of Stunna's with a ribbon cutting.  \n\n\n\nStunna's is a locally owned catering\, meal prep\, and event space in Columbus founded by Michelle Mulimba. The business specializes in creating healthy\, flavorful meals that save families time while also offering full-service catering for events of all sizes. In addition to its meal prep and catering services\, Stunna's provides a licensed commercial kitchen available for rent to other food entrepreneurs and a flexible event space for meetings\, private dinners\, and community gatherings. The ribbon cutting celebrates the opening of this expanded space and Stunna's continued mission to build community through food\, collaboration\, and wellness.
X-ALT-DESC;FMTTYPE=text/html:Join us to celebrate the grand opening of Stunna&#39\;s with a ribbon cutting.&nbsp\;&nbsp\;<br />\n<br />\n<em><strong style="color: rgb(34\, 34\, 34)\; font-family: Arial\, Helvetica\, sans-serif\; font-size: small\;">Stunna&rsquo\;s</strong><span style="color: rgb(34\, 34\, 34)\; font-family: Arial\, Helvetica\, sans-serif\; font-size: small\;">&nbsp\;is a locally owned catering\, meal prep\, and event space in Columbus founded by Michelle Mulimba. The business specializes in creating healthy\, flavorful meals that save families time while also offering full-service catering for events of all sizes. In addition to its meal prep and catering services\, Stunna&rsquo\;s provides a licensed commercial kitchen available for rent to other food entrepreneurs and a flexible event space for meetings\, private dinners\, and community gatherings. The ribbon cutting celebrates the opening of this expanded space and Stunna&rsquo\;s continued mission to build community through food\, collaboration\, and wellness.</span></em>
LOCATION:1604 Central Ave Columbus In 47201
UID:e.1795.5996
SEQUENCE:3
DTSTAMP:20260425T005959Z
URL:https://business.columbusareachamber.com/events/details/ribbon-cutting-at-stunna-s-5996
END:VEVENT

END:VCALENDAR
